Workbook
Name 查询2: 查询!$A$2:$M$54
Name 查询2: #REF!

Sheet 查询
A1: 江苏省2019年考试录用公务员省级机关职位拟录用人员名单(第一批)
A2: 考生姓名 | B2: 性别 | C2: 部门代码 | D2: 部门名称 | E2: 职位代码 | F2: 职位名称 | G2: 考号 | H2: 学历 | I2: 招考人数 | J2: 笔试分数 | K2: 面试分数 | L2: 专业能力 测试分数 | M2: 总分 | N2: 毕业院校 | O2: 工作单位
A3: 赵大地 | B3: 男 | C3: 011 | D3: 省财政厅 | E3: 01 | F3: 预算审核中心财政财务管理岗（参公管理） | G3: 101030801330 | H3: 硕士研究生 | I3: 2 | J3: 143.9 | K3: 79.00 | M3: 75.48 | N3: =VLOOKUP(G3,[1]查询1!$J$2:$T$135,11,0) -> 西南财经大学 | O3: =VLOOKUP(G3,[1]查询1!$J$2:$V$135,12,0) -> 无
A4: 潘磊 | B4: 男 | C4: 011 | D4: 省财政厅 | E4: 01 | F4: 预算审核中心财政财务管理岗（参公管理） | G4: 101000306925 | H4: 硕士研究生 | I4: 2 | J4: 140 | K4: 76.60 | M4: 73.30 | N4: =VLOOKUP(G4,[1]查询1!$J$2:$T$135,11,0) -> 复旦大学 | O4: =VLOOKUP(G4,[1]查询1!$J$2:$V$135,12,0) -> 无
A5: 房婉秋 | B5: 女 | C5: 011 | D5: 省财政厅 | E5: 02 | F5: 预算审核中心财政财务管理岗（参公管理） | G5: 101000601230 | H5: 硕士研究生 | I5: 2 | J5: 145.7 | K5: 82.80 | M5: 77.83 | O5: =VLOOKUP(G5,[1]查询1!$J$2:$V$135,12,0) -> 中国农业银行武汉培训学院
A6: 赵泽君 | B6: 女 | C6: 011 | D6: 省财政厅 | E6: 02 | F6: 预算审核中心财政财务管理岗（参公管理） | G6: 101000211916 | H6: 硕士研究生 | I6: 2 | J6: 148.6 | K6: 79.60 | M6: 76.95 | N6: =VLOOKUP(G6,[1]查询1!$J$2:$T$135,11,0) -> 南京大学 | O6: =VLOOKUP(G6,[1]查询1!$J$2:$V$135,12,0) -> 无
A7: 叶阳阳 | B7: 男 | C7: 011 | D7: 省财政厅 | E7: 03 | F7: 省农村综合改革办公室财政财务管理岗（参公管理） | G7: 101030800715 | H7: 硕士研究生 | I7: 2 | J7: 153.1 | K7: 75.40 | M7: 75.98 | N7: =VLOOKUP(G7,[1]查询1!$J$2:$T$135,11,0) -> 山东大学 | O7: =VLOOKUP(G7,[1]查询1!$J$2:$V$135,12,0) -> 无
A8: 掌政 | B8: 男 | C8: 011 | D8: 省财政厅 | E8: 03 | F8: 省农村综合改革办公室财政财务管理岗（参公管理） | G8: 101000505401 | H8: 硕士研究生 | I8: 2 | J8: 144.1 | K8: 76.60 | M8: 74.33 | O8: =VLOOKUP(G8,[1]查询1!$J$2:$V$135,12,0) -> 南京证券股份有限公司
A9: 吉琳 | B9: 女 | C9: 011 | D9: 省财政厅 | E9: 04 | F9: 省农村综合改革办公室财政财务管理岗（参公管理） | G9: 101000401617 | H9: 硕士研究生 | I9: 2 | J9: 152.6 | K9: 81.60 | M9: 78.95 | N9: =VLOOKUP(G9,[1]查询1!$J$2:$T$135,11,0) -> 南京大学 | O9: =VLOOKUP(G9,[1]查询1!$J$2:$V$135,12,0) -> 无
A10: 高丽晴 | B10: 女 | C10: 011 | D10: 省财政厅 | E10: 04 | F10: 省农村综合改革办公室财政财务管理岗（参公管理） | G10: 101030702417 | H10: 硕士研究生 | I10: 2 | J10: 146.9 | K10: 80.00 | M10: 76.73 | N10: =VLOOKUP(G10,[1]查询1!$J$2:$T$135,11,0) -> 东北财经大学 | O10: =VLOOKUP(G10,[1]查询1!$J$2:$V$135,12,0) -> 无
A11: 李宝银 | B11: 男 | C11: 015 | D11: 省交通运输厅 | E11: 02 | F11: 省铁路办公室铁路建设管理（参公管理） | G11: 101031305314 | H11: 硕士研究生 | I11: 1 | J11: 148.5 | K11: 74.60 | M11: 74.43 | O11: =VLOOKUP(G11,[1]查询1!$J$2:$V$135,12,0) -> 济南市市政工程质量监督站
A12: 宣政 | B12: 男 | C12: 015 | D12: 省交通运输厅 | E12: 03 | F12: 省铁路办公室铁路运输管理（参公管理） | G12: 101000401510 | H12: 硕士研究生 | I12: 1 | J12: 148.6 | K12: 69.20 | M12: 71.75 | O12: =VLOOKUP(G12,[1]查询1!$J$2:$V$135,12,0) -> 中铁快运股份有限公司
A13: 毛素莹 | B13: 女 | C13: 020 | D13: 省卫生健康委员会 | E13: 01 | F13: 省卫生监督所党委办公室科员（参公管理） | G13: 101000700111 | H13: 本科 | I13: 1 | J13: 143.2 | K13: 85.90 | M13: 78.75 | O13: =VLOOKUP(G13,[1]查询1!$J$2:$V$135,12,0) -> 南京牛首山文化旅游区管理委员会
A14: 马晨展 | B14: 男 | C14: 020 | D14: 省卫生健康委员会 | E14: 02 | F14: 省卫生监督所卫生监督岗位科员（参公管理） | G14: 101000501802 | H14: 本科 | I14: 1 | J14: 137.9 | K14: 81.40 | M14: 75.18 | N14: =VLOOKUP(G14,[1]查询1!$J$2:$T$135,11,0) -> 华中科技大学 | O14: =VLOOKUP(G14,[1]查询1!$J$2:$V$135,12,0) -> 无
A15: 周静涵 | B15: 女 | C15: 020 | D15: 省卫生健康委员会 | E15: 03 | F15: 省卫生监督所卫生监督岗位科员（参公管理） | G15: 101000210524 | H15: 本科 | I15: 1 | J15: 134.5 | K15: 83.60 | M15: 75.43 | N15: =VLOOKUP(G15,[1]查询1!$J$2:$T$135,11,0) -> 江西中医药大学 | O15: =VLOOKUP(G15,[1]查询1!$J$2:$V$135,12,0) -> 无
A16: 马竞霄 | B16: 男 | C16: 020 | D16: 省卫生健康委员会 | E16: 04 | F16: 省卫生监督所卫生监督岗位科员（参公管理） | G16: 101000311417 | H16: 本科 | I16: 2 | J16: 136.7 | K16: 80.80 | M16: 74.58 | O16: =VLOOKUP(G16,[1]查询1!$J$2:$V$135,12,0) -> 郑州市中原区卫生监督所
A17: 吴孔奇 | B17: 男 | C17: 020 | D17: 省卫生健康委员会 | E17: 04 | F17: 省卫生监督所卫生监督岗位科员（参公管理） | G17: 101000307504 | H17: 本科 | I17: 2 | J17: 132.9 | K17: 80.20 | M17: 73.33 | N17: =VLOOKUP(G17,[1]查询1!$J$2:$T$135,11,0) -> 徐州医科大学 | O17: =VLOOKUP(G17,[1]查询1!$J$2:$V$135,12,0) -> 无
A18: 王蓉 | B18: 女 | C18: 020 | D18: 省卫生健康委员会 | E18: 05 | F18: 省卫生监督所卫生监督岗位科员（参公管理） | G18: 101000704811 | H18: 本科 | I18: 1 | J18: 142.2 | K18: 81.60 | M18: 76.35 | N18: =VLOOKUP(G18,[1]查询1!$J$2:$T$135,11,0) -> 皖南医学院 | O18: =VLOOKUP(G18,[1]查询1!$J$2:$V$135,12,0) -> 无
A19: 章忻玥 | B19: 女 | C19: 020 | D19: 省卫生健康委员会 | E19: 06 | F19: 省计划生育药具管理站科员（参公管理） | G19: 101000307804 | H19: 本科 | I19: 1 | J19: 135.7 | K19: 79.60 | M19: 73.73 | O19: =VLOOKUP(G19,[1]查询1!$J$2:$V$135,12,0) -> 句容市行政审批局
A20: 程文婕 | B20: 女 | C20: 037 | D20: 省机关事务管理局 | E20: 01 | F20: 省级机关住房资金管理中心科员（参公管理） | G20: 101000901227 | H20: 本科 | I20: 1 | J20: 142.1 | K20: 76.40 | M20: 73.73 | O20: =VLOOKUP(G20,[1]查询1!$J$2:$V$135,12,0) -> 周口人力资源和社会保障电子政务中心
A21: 曹育育 | B21: 女 | C21: 037 | D21: 省机关事务管理局 | E21: 02 | F21: 省级机关住房资金管理中心科员（参公管理） | G21: 101000602413 | H21: 本科 | I21: 1 | J21: 143.1 | K21: 79.80 | M21: 75.68 | N21: =VLOOKUP(G21,[1]查询1!$J$2:$T$135,11,0) -> 南京审计大学 | O21: =VLOOKUP(G21,[1]查询1!$J$2:$V$135,12,0) -> 无
A22: 徐慧中 | B22: 女 | C22: 038 | D22: 省人防办 | E22: 01 | F22: 工程管理处副主任科员及以下 | G22: 101110303827 | H22: 硕士研究生 | I22: 1 | J22: 134.8 | K22: 79.60 | M22: 73.50 | O22: =VLOOKUP(G22,[1]查询1!$J$2:$V$135,12,0) -> 镇江市规划局润州分局
A23: 葛思语 | B23: 男 | C23: 038 | D23: 省人防办 | E23: 02 | F23: 指挥和信息化处科员 | G23: 101000203319 | H23: 本科 | I23: 1 | J23: 145.4 | K23: 82.40 | M23: 77.55 | O23: =VLOOKUP(G23,[1]查询1!$J$2:$V$135,12,0) -> 江阴海事局
A24: 马娅娥 | B24: 女 | C24: 062 | D24: 省政府驻上海办事处 | E24: 01 | F24: 综合处科员 | G24: 101020604429 | H24: 硕士研究生 | I24: 1 | J24: 142.6 | K24: 77.80 | M24: 74.55 | O24: =VLOOKUP(G24,[1]查询1!$J$2:$V$135,12,0) -> 江阴市月城镇人民政府社会事务服务中心
A25: 周静怡 | B25: 女 | C25: 067 | D25: 省政务服务管理办公室 | E25: 01 | F25: 综合处主任科员及以下 | G25: 101000305815 | H25: 本科 | I25: 1 | J25: 154.7 | K25: 78.60 | M25: 77.98 | O25: =VLOOKUP(G25,[1]查询1!$J$2:$V$135,12,0) -> 江苏苏鹰人才科技有限公司
A26: 陈思 | B26: 女 | C26: 067 | D26: 省政务服务管理办公室 | E26: 02 | F26: 综合处主任科员及以下 | G26: 101000504215 | H26: 本科 | I26: 1 | J26: 143.4 | K26: 78.80 | M26: 75.25 | O26: =VLOOKUP(G26,[1]查询1!$J$2:$V$135,12,0) -> 玄武区投资建设代办服务中心
A27: 唐溶 | B27: 男 | C27: 511 | D27: 省委网信办 | E27: 01 | F27: 综合文字 | G27: 101030604601 | H27: 硕士研究生 | I27: 1 | J27: 135.6 | K27: 76.20 | M27: 72.00 | O27: =VLOOKUP(G27,[1]查询1!$J$2:$V$135,12,0) -> 黑龙江省齐齐哈尔市民政局
A28: 黄经纬 | B28: 男 | C28: 511 | D28: 省委网信办 | E28: 02 | F28: 省互联网舆情中心岗位（参公管理） | G28: 101030200711 | H28: 本科 | I28: 2 | J28: 151.5 | K28: 77.50 | M28: 76.63 | O28: =VLOOKUP(G28,[1]查询1!$J$2:$V$135,12,0) -> 北京一猫汽车科技有限公司
A29: 胡雅娟 | B29: 女 | C29: 511 | D29: 省委网信办 | E29: 02 | F29: 省互联网舆情中心岗位（参公管理） | G29: 101000506807 | H29: 本科 | I29: 2 | J29: 147.5 | K29: 77.30 | M29: 75.53 | O29: =VLOOKUP(G29,[1]查询1!$J$2:$V$135,12,0) -> 安徽省马鞍山市当涂团县委
A30: 呼延龙 | B30: 男 | C30: 514 | D30: 省委军民融合发展委员会办公室 | E30: 01 | F30: 主任科员 | G30: 101000503420 | H30: 博士研究生 | I30: 1 | J30: 130.7 | K30: 74.40 | M30: 69.88 | O30: =VLOOKUP(G30,[1]查询1!$J$2:$V$135,12,0) -> 中国电子科技集团公司第二十八研究所
A31: 丁昱戈 | B31: 女 | C31: 515 | D31: 省国家保密局 | E31: 01 | F31: 省保密保障中心保密法律法规宣传教育(参公管理) | G31: 101000200125 | H31: 硕士研究生 | I31: 1 | J31: 150.3 | K31: 76.20 | M31: 75.68 | O31: =VLOOKUP(G31,[1]查询1!$J$2:$V$135,12,0) -> 河南正剑律师事务所
A32: 项佳锐 | B32: 男 | C32: 515 | D32: 省国家保密局 | E32: 02 | F32: 省保密保障中心技术检查(参公管理) | G32: 101060205029 | H32: 本科 | I32: 1 | J32: 140.7 | K32: 81.10 | M32: 75.73 | O32: =VLOOKUP(G32,[1]查询1!$J$2:$V$135,12,0) -> 南通市经济技术开发区人民检察院
A33: 胡辰飞 | B33: 男 | C33: 515 | D33: 省国家保密局 | E33: 03 | F33: 省信息系统保密技术监督管理中心(参公管理) | G33: 101000702826 | H33: 硕士研究生 | I33: 2 | J33: 131.2 | K33: 78.20 | M33: 71.90 | O33: =VLOOKUP(G33,[1]查询1!$J$2:$V$135,12,0) -> 江苏省民防指挥信息保障中心
... A35: 刘晓侠 | B35: 男 | C35: 515 | D35: 省国家保密局 | E35: 04 | F35: 省信息系统保密技术监督管理中心(参公管理) | G35: 101030203415 | H35: 硕士研究生 | I35: 1 | J35: 138.6 | K35: 77.20 | M35: 73.25 | O35: =VLOOKUP(G35,[1]查询1!$J$2:$V$135,12,0) -> 滕州市节约能源办公室
A36: 徐然 | B36: 女 | C36: 533 | D36: 省法院 | E36: 01 | F36: 徐州铁路运输法院司法行政人员 | G36: 101030502620 | H36: 本科 | I36: 1 | J36: 137.5 | K36: 79.80 | M36: 74.28 | N36: =VLOOKUP(G36,[1]查询1!$J$2:$T$135,11,0) -> 山东农业大学 | O36: =VLOOKUP(G36,[1]查询1!$J$2:$V$135,12,0) -> 无
A37: 曾蕾 | B37: 女 | C37: 533 | D37: 省法院 | E37: 02 | F37: 徐州铁路运输法院司法行政人员 | G37: 101000703812 | H37: 硕士研究生 | I37: 1 | J37: 145.6 | K37: 77.80 | M37: 75.30 | N37: =VLOOKUP(G37,[1]查询1!$J$2:$T$135,11,0) -> 英国贝尔法斯特女王大学 | O37: =VLOOKUP(G37,[1]查询1!$J$2:$V$135,12,0) -> 无
A38: 耿朋 | B38: 男 | C38: 533 | D38: 省法院 | E38: 03 | F38: 徐州铁路运输法院司法行政人员 | G38: 101040306212 | H38: 硕士研究生 | I38: 1 | J38: 149 | K38: 76.80 | M38: 75.65 | O38: =VLOOKUP(G38,[1]查询1!$J$2:$V$135,12,0) -> 泰州市数据产业园区
A39: 高振起 | B39: 男 | C39: 533 | D39: 省法院 | E39: 04 | F39: 徐州铁路运输法院司法辅助人员 | G39: 202031700102 | H39: 本科 | I39: 2 | J39: 136 | K39: 79.80 | M39: 73.90 | N39: =VLOOKUP(G39,[1]查询1!$J$2:$T$135,11,0) -> 山东警察学院 | O39: =VLOOKUP(G39,[1]查询1!$J$2:$V$135,12,0) -> 无
A40: 蒋树人 | B40: 男 | C40: 533 | D40: 省法院 | E40: 04 | F40: 徐州铁路运输法院司法辅助人员 | G40: 202001105105 | H40: 本科 | I40: 2 | J40: 123.4 | K40: 77.80 | M40: 69.75 | N40: =VLOOKUP(G40,[1]查询1!$J$2:$T$135,11,0) -> 南京森林警察学院 | O40: =VLOOKUP(G40,[1]查询1!$J$2:$V$135,12,0) -> 无
A41: 韩继领 | B41: 男 | C41: 533 | D41: 省法院 | E41: 70 | F41: 法官助理 | G41: 101000215706 | H41: 硕士研究生 | I41: 2 | J41: 139.7 | K41: 73.30 | M41: 71.58 | O41: =VLOOKUP(G41,[1]查询1!$J$2:$V$135,12,0) -> 安徽省蚌埠市龙子湖区人民法院
A42: 孙昊 | B42: 男 | C42: 533 | D42: 省法院 | E42: 70 | F42: 法官助理 | G42: 101050401924 | H42: 硕士研究生 | I42: 2 | J42: 135.4 | K42: 71.60 | M42: 69.65 | O42: =VLOOKUP(G42,[1]查询1!$J$2:$V$135,12,0) -> 江苏省烟草公司苏州市公司、苏州市烟草专卖局
A43: 余鑫 | B43: 男 | C43: 533 | D43: 省法院 | E43: 71 | F43: 法官助理 | G43: 101000806914 | H43: 硕士研究生 | I43: 2 | J43: 146.6 | K43: 72.60 | M43: 72.95 | N43: =VLOOKUP(G43,[1]查询1!$J$2:$T$135,11,0) -> 宁波大学 | O43: =VLOOKUP(G43,[1]查询1!$J$2:$V$135,12,0) -> 无
A44: 商上 | B44: 男 | C44: 533 | D44: 省法院 | E44: 71 | F44: 法官助理 | G44: 101000219030 | H44: 硕士研究生 | I44: 2 | J44: 126.1 | K44: 75.40 | M44: 69.23 | O44: =VLOOKUP(G44,[1]查询1!$J$2:$V$135,12,0) -> 山东天宏新能源化工有限公司
A45: 王喆 | B45: 女 | C45: 533 | D45: 省法院 | E45: 72 | F45: 法官助理 | G45: 101000201120 | H45: 硕士研究生 | I45: 2 | J45: 138.1 | K45: 72.80 | M45: 70.93 | N45: =VLOOKUP(G45,[1]查询1!$J$2:$T$135,11,0) -> 郑州大学 | O45: =VLOOKUP(G45,[1]查询1!$J$2:$V$135,12,0) -> 无
A46: 张婧 | B46: 女 | C46: 533 | D46: 省法院 | E46: 72 | F46: 法官助理 | G46: 101000707815 | H46: 硕士研究生 | I46: 2 | J46: 138.7 | K46: 72.40 | M46: 70.88 | N46: =VLOOKUP(G46,[1]查询1!$J$2:$T$135,11,0) -> 中国人民大学 | O46: =VLOOKUP(G46,[1]查询1!$J$2:$V$135,12,0) -> 无
A47: 卢思宇 | B47: 女 | C47: 533 | D47: 省法院 | E47: 73 | F47: 法官助理 | G47: 101000206823 | H47: 硕士研究生 | I47: 2 | J47: 134.7 | K47: 78.70 | M47: 73.03 | N47: =VLOOKUP(G47,[1]查询1!$J$2:$T$135,11,0) -> 中国政法大学 | O47: =VLOOKUP(G47,[1]查询1!$J$2:$V$135,12,0) -> 无
A48: 张莹莹 | B48: 女 | C48: 533 | D48: 省法院 | E48: 73 | F48: 法官助理 | G48: 101000702427 | H48: 硕士研究生 | I48: 2 | J48: 135.4 | K48: 73.20 | M48: 70.45 | N48: =VLOOKUP(G48,[1]查询1!$J$2:$T$135,11,0) -> 中国人民大学 | O48: =VLOOKUP(G48,[1]查询1!$J$2:$V$135,12,0) -> 无
A49: 章燕 | B49: 女 | C49: 533 | D49: 省法院 | E49: 74 | F49: 徐州铁路运输法院法官助理 | G49: 101030600702 | H49: 硕士研究生 | I49: 1 | J49: 125 | K49: 73.80 | M49: 68.15 | O49: =VLOOKUP(G49,[1]查询1!$J$2:$V$135,12,0) -> 江苏苏旭律师事务所
A50: 王晓 | B50: 女 | C50: 544 | D50: 民进江苏省委 | E50: 01 | F50: 综合文字 | G50: 101000403804 | H50: 本科 | I50: 1 | J50: 153.2 | K50: 75.40 | M50: 76.00 | O50: =VLOOKUP(G50,[1]查询1!$J$2:$V$135,12,0) -> 江苏省设备成套有限公司
A51: 鲁林 | B51: 男 | C51: 545 | D51: 农工民主党江苏省委 | E51: 01 | F51: 综合文字 | G51: 101000806916 | H51: 本科 | I51: 1 | J51: 141.7 | K51: 78.80 | M51: 74.83 | N51: =VLOOKUP(G51,[1]查询1!$J$2:$T$135,11,0) -> 安徽大学 | O51: =VLOOKUP(G51,[1]查询1!$J$2:$V$135,12,0) -> 无
A52: 李雅君 | B52: 女 | C52: 551 | D52: 省总工会 | E52: 01 | F52: 文字工作岗位 | G52: 101000805210 | H52: 本科 | I52: 1 | J52: 143.4 | K52: 79.80 | M52: 75.75 | O52: =VLOOKUP(G52,[1]查询1!$J$2:$V$135,12,0) -> 南京市第二医院
A53: 王曈升 | B53: 男 | C53: 563 | D53: 省台湾同胞联谊会 | E53: 01 | F53: 联络部综合岗位 | G53: 101050300909 | H53: 本科 | I53: 1 | J53: 145.9 | K53: 76.80 | M53: 74.88 | O53: =VLOOKUP(G53,[1]查询1!$J$2:$V$135,12,0) -> 北京导氮教育科技有限责任公司
A54: 徐有健 | B54: 男 | C54: 585 | D54: 省计划生育协会（参公管理） | E54: 01 | F54: 办公室主任科员以下岗位 | G54: 101000903530 | H54: 本科 | I54: 1 | J54: 143.3 | K54: 78.60 | M54: 75.13 | O54: =VLOOKUP(G54,[1]查询1!$J$2:$V$135,12,0) -> 南京市六合区冶山街道办事处
